{"text_format":"1","workbook":"xlsx","n_sheets":2,"sheets":["G7010-匯款申請書","camera"],"not_rendered":{"charts":0,"images":0,"macros":1,"external_links":0,"defined_names":39,"comments":1,"pivot_tables":0},"unopened":[],"bounds":{"document_bytes":16777216,"sheet_cells":100000,"rows_first":2000,"rows_last":500,"rows_between":2000,"halvings":0,"cell_chars":16384,"cell_head_chars":4096},"cells_cut":0,"cells_raw":0,"read":"whole","date_system":"1900"}

{"sheet":"G7010-匯款申請書","index":0,"n_rows":91,"n_cols":37,"rows_kept":91,"cut":false,"hidden":false,"merged":[[68,1,76,1],[68,10,68,12],[68,8,68,9],[76,2,76,6],[76,7,76,12],[4,22,4,23],[4,25,4,26],[4,28,4,29],[5,22,5,23],[5,25,5,26],[5,28,5,29],[4,18,4,19],[5,18,5,19],[6,20,6,22],[6,24,6,25],[6,27,6,28],[32,18,32,19],[32,22,32,23],[32,25,32,26],[32,28,32,29],[29,2,30,29],[33,18,33,19],[33,22,33,23],[33,25,33,26],[75,2,75,4],[75,5,75,12],[75,13,75,14],[64,18,64,19],[66,20,66,22],[68,20,68,29],[70,18,70,19],[69,4,70,17],[68,13,68,14],[64,22,64,23],[64,25,64,26],[64,28,64,29],[65,18,65,19],[65,22,65,23],[65,25,65,26],[65,28,65,29],[66,24,66,25],[66,27,66,28],[68,15,68,17],[68,18,68,19],[65,6,65,13],[65,14,65,15],[66,6,66,18],[69,3,70,3],[90,2,91,29],[81,5,81,18],[82,5,82,18],[83,5,83,18],[84,5,84,18],[86,5,86,18],[81,2,81,3],[87,5,87,10],[85,5,85,18],[89,28,89,29],[89,2,89,7],[89,8,89,9],[87,11,87,13],[36,2,36,3],[69,18,69,19],[68,2,68,3],[61,2,62,29],[54,3,54,5],[51,3,51,4],[54,9,54,14],[54,16,54,18],[54,22,54,29],[68,4,68,7],[51,23,51,29],[37,20,37,29],[46,25,46,29],[39,18,40,19],[39,20,40,29],[44,13,44,17],[43,2,43,4],[43,5,43,12],[8,1,16,1],[45,2,45,29],[17,18,17,19],[17,20,17,25],[36,1,44,1],[33,28,33,29],[34,20,34,22],[34,24,34,25],[34,27,34,28],[8,15,8,17],[36,15,36,17],[8,18,8,19],[8,20,8,29],[36,18,36,19],[36,20,36,29],[37,2,40,2],[37,3,38,3],[39,3,40,3],[39,4,40,17],[38,18,38,19],[46,9,46,11],[43,13,43,14],[46,3,46,4],[51,21,51,22],[46,14,46,17],[46,18,46,21],[51,10,51,14],[51,18,51,20],[37,4,38,17],[33,14,33,15],[34,6,34,18],[36,13,36,14],[11,18,12,19],[14,18,14,19],[19,5,20,17],[36,4,36,7],[36,8,36,9],[36,10,36,12],[28,28,28,29],[22,25,22,29],[9,3,10,3],[8,8,8,9],[16,2,16,6],[22,5,22,6],[9,2,12,2],[13,18,13,19],[11,3,12,3],[28,8,28,9],[10,18,10,19],[25,18,25,19],[21,33,21,40],[14,20,14,29],[13,20,13,29],[21,2,21,29],[15,2,15,4],[18,2,18,3],[22,9,22,11],[15,13,15,14],[22,18,22,21],[22,12,22,13],[17,2,17,17],[22,3,22,4],[1,26,1,27],[15,5,15,12],[18,4,18,14],[13,2,14,7],[24,3,24,5],[73,8,74,17],[38,20,38,29],[9,4,10,17],[9,18,9,19],[1,2,1,6],[8,2,8,3],[8,10,8,12],[1,8,1,11],[1,13,1,25],[9,20,9,29],[10,20,10,29],[69,20,69,29],[70,20,70,29],[8,13,8,14],[8,4,8,7],[11,20,12,29],[11,4,12,17],[16,7,16,12],[22,7,22,8],[5,6,5,13],[5,14,5,15],[13,8,14,17],[79,2,79,4],[79,5,80,17],[80,2,80,4],[41,2,42,7],[41,8,42,17],[76,13,76,17],[73,2,74,7],[22,14,22,17],[78,2,78,3],[78,4,78,14],[44,7,44,12],[44,2,44,6],[16,13,16,17],[77,2,77,17],[28,2,28,7],[19,2,19,4],[20,2,20,4],[6,6,6,18],[25,3,25,5],[37,18,37,19],[33,6,33,13],[71,18,72,19],[48,3,48,5],[49,3,49,5],[54,6,54,8],[46,5,46,6],[46,7,46,8],[50,2,50,29],[49,18,49,19],[46,12,46,13],[71,3,72,3],[71,4,72,17],[69,2,72,2],[54,19,54,21],[51,16,51,17],[51,5,51,7],[51,8,51,9],[60,2,60,7],[60,8,60,9],[60,28,60,29],[71,20,72,29]]}
[]
[null,null,"新臺幣匯款金額",null,null,null,null,null,null,null,null,null,null,"手續費是否由同一匯出本金扣款帳號扣款 (1:是  2:否)",null,null,null,null,null,null,null,null,null,null,null,null,null,null,null,null,null,null,null,"☐",null,"臺北",96978630]
[null,null,null,null,null,null,null,null,null,null,null,null,null,null,null,null,null,null,null,null,null,null,null,null,null,null,null,null,null,null,null,null,null,"☑",null,"臺中","28425252"]
[null,null,"☐","傳真指示扣帳 (請勾選。僅限與本行簽訂電話傳真交易授權書者適用)",null,null,null,null,null,null,null,null,null,null,null,null,null,null,null,null,null,null,null,null,null,null,null,null,null,null,null,null,null,null,null,"高雄","86893726"]
[null,null,null,null,null,null,null,null,null,null,null,null,null,null,null,null,null,null,"匯款",null,null,"☐","跨行",null,"☐","公庫",null,"☐","同業"]
[null,null,null,null,null,null," 日 商 瑞 穗 銀 行",null,null,null,null,null,null,null,"臺北",null,"分行",null,"種類",null,null,"☐","證券",null,"☐","票券",null,"☐","自行"]
[null,null,null,null,null,null,"  Mizuho Bank, Ltd.       匯 款 申 請 書  ",null,null,null,null,null,null,null,null,null,null,null,null,null,null,null,null,"年",null,null,"月",null,null,"日"]
[]
[null,"第\n一\n聯\n\n預\n金\n課\n存\n查\n聯","解款行庫\n(收款行)",null,null,null,null,null,"分支\n單位",null,null,null,null,"解款行\n代　號",null,null,null,null,"手續費"]
[null,null,"收\n款\n人","帳號",null,null,null,null,null,null,null,null,null,null,null,null,null,null,"代理人",null,null,null,null,null,null,null,null,null,null,null,null,null,null,null,null,null,{"$f":"LEN(E10)","v":0}]
[null,null,null,null,null,null,null,null,null,null,null,null,null,null,null,null,null,null,"身分證字號"]
[null,null,null,"戶名",null,null,null,null,null,null,null,null,null,null,null,null,null,null,"備註(附言)"]
[]
[null,null,"匯  款  金  額",null,null,null,null,null,{"$f":"$I$2","v":0},null,null,null,null,null,null,null,null,null,"存戶簽章",null,"(左列帳戶原留印鑑)"]
[]
[null,null,"匯款人姓名:",null,null,null,null,null,null,null,null,null,null," 電 話:"]
[null,null,"身分證字號/統一編號:"]
[null,null,"為辦理匯款茲授權　貴行自下列存款帳號扣款作為匯款金額"]
[null,null,"帳號："]
[null,null,"＊扣款金額：",null,null,{"$f":"IF(AA2=1,I2+U9,I2)","v":0}]
[]
[null,null,"說明:存戶同意　貴行上述帳號內扣款金額作為本匯款申請書所載匯款金額及手續費用合計數之全部或一部，倘上述帳號內存款不足扣款金額時，貴行得不予扣款。"]
[null,null,"入"]
[null,null,"力"]
[null,null,"認"]
[null,null,"證"]
[null,null,null,null,null,null,null,null,null,null,null,null,null,null,null,null,null,null,null,null,null,"證",null,null,null,"印","照"]
[null,null,null,null,null,null,null,null,null,null,null,null,null,null,null,null,null,null,null,null,null,"印",null,null,null,"鑑","合"]
[null,null," (G7010) Electronic Application",null,null,null,null,null,20190902,null,null,null,null,null,null,null,null,null,null,null,null,null,null,null,null,null,null,null,"3-1"]
[null,null," Note: 使用此申請書時，本人/本公司同意不更動除填記欄位以外之申請書內容及文字，若更動該申請書內容或文字而造成  貴行損失時\n      願負一切責任。"]
[]
[]
[null,null,null,null,null,null,null,null,null,null,null,null,null,null,null,null,null,null,"匯款",null,null,{"$f":"$V$5","v":"☐"},"跨行",null,{"$f":"$Y$5","v":"☐"},"公庫",null,{"$f":"$AB$5","v":"☐"},"同業"]
[null,null,null,null,null,null," 日 商 瑞 穗 銀 行",null,null,null,null,null,null,null,{"$f":"$O$6","v":"臺北"},null,"分行",null,"種類",null,null,{"$f":"$V$6","v":"☐"},"證券",null,{"$f":"$Y$6","v":"☐"},"票券",null,{"$f":"$AB$6","v":"☐"},"自行"]
[null,null,null,null,null,null,"  Mizuho Bank, Ltd.       匯 款 申 請 書  ",null,null,null,null,null,null,null,null,null,null,null,null,null,{"$f":"IF($U$7=\"\",\"\",$U$7)","v":""},null,null,"年",{"$f":"IF($Y$7=\"\",\"\",$Y$7)","v":""},null,"月",{"$f":"IF($AB$7=\"\",\"\",$AB$7)","v":""},null,"日"]
[]
[null,"第\n二\n聯\n\n匯\n款\n存\n查\n聯","解款行庫\n(收款行)",null,{"$f":"IF($E$9=\"\",\"\",$E$9)","v":""},null,null,null,"分支\n單位",null,{"$f":"IF($K$9=\"\",\"\",$K$9)","v":""},null,null,"解款行\n代　號",null,{"$f":"IF($P$9=\"\",\"\",$P$9)","v":""},null,null,"手續費",null,{"$f":"IF($U$9=\"\",\"\",$U$9)","v":""}]
[null,null,"收\n款\n人","帳號",{"$f":"IF($E$10=\"\",\"\",$E$10)","v":""},null,null,null,null,null,null,null,null,null,null,null,null,null,"代理人",null,{"$f":"IF($U$10=\"\",\"\",$U$10)","v":""}]
[null,null,null,null,null,null,null,null,null,null,null,null,null,null,null,null,null,null,"身分證字號",null,{"$f":"IF($U$11=\"\",\"\",$U$11)","v":""}]
[null,null,null,"戶名",{"$f":"IF($E$12=\"\",\"\",$E$12)","v":""},null,null,null,null,null,null,null,null,null,null,null,null,null,"備註(附言)",null,{"$f":"IF($U$12=\"\",\"\",$U$12)","v":""}]
[]
[null,null,"匯  款  金  額",null,null,null,null,null,{"$f":"$I$14","v":0}]
[]
[null,null,"匯款人姓名:",null,null,{"$f":"IF($F$16=\"\",\"\",$F$16)","v":""},null,null,null,null,null,null,null," 電 話:"]
[null,null,"身分證字號/統一編號:",null,null,null,null,{"$f":"IF(gc1_1=\"\",\"\",gc1_1)","v":""},null,null,null,null,null,{"$f":"IF($N$17=\"\",\"\",$N$17)","v":""}]
[]
[null,null,"入"]
[null,null,"力"]
[null,null,"認","收 款 人"]
[null,null,"證","匯 款 人"]
[null,null,"說明:存戶同意　貴行上述帳號內扣款金額作為本匯款申請書所載匯款金額及手續費用合計數之全部或一部，倘上述帳號內存款不足扣款金額時，貴行得不予扣款。"]
[null,null,"承"]
[null,null,"認"]
[null,null,"認"]
[null,null,"證"]
[]
[null,null,null,null,null,null,null,null,null,null,null,null,null,null,null,null,"金資匯款：",null,null,null,null,null,null,"申請課："]
[]
[null,null,null,null,null,null,null,null,null,null,null,null,null,null,null,null,"主",null,null,"係",null,null,null,"主",null,null,null,"係"]
[null,null,null,null,null,null,null,null,null,null,null,null,null,null,null,null,"管",null,null,null,null,null,null,"管"]
[null,null," (G7010) Electronic Application",null,null,null,null,null,{"$f":"I29","v":20190902},null,null,null,null,null,null,null,null,null,null,null,null,null,null,null,null,null,null,null,"3-2"]
[null,null," Note: 使用此申請書時，本人/本公司同意不更動除填記欄位以外之申請書內容及文字，若更動該申請書內容或文字而造成  貴行損失時\n      願負一切責任。"]
[]
[]
[]
[null,null,null,null,null,null," 日 商 瑞 穗 銀 行",null,null,null,null,null,null,null,{"$f":"$O$6","v":"臺北"},null,"分行"]
[null,null,null,null,null,null,"  Mizuho Bank, Ltd.       匯 款 申 請 書  ",null,null,null,null,null,null,null,null,null,null,null,null,null,{"$f":"IF($U$7=\"\",\"\",$U$7)","v":""},null,null,"年",{"$f":"IF($Y$7=\"\",\"\",$Y$7)","v":""},null,"月",{"$f":"IF($AB$7=\"\",\"\",$AB$7)","v":""},null,"日"]
[]
[null,"第\n三\n聯\n\n收\n據\n存\n查\n聯","解款行庫\n(收款行)",null,{"$f":"IF($E$9=\"\",\"\",$E$9)","v":""},null,null,null,"分支\n單位",null,{"$f":"IF($K$9=\"\",\"\",$K$9)","v":""},null,null,"解款行\n代　號",null,{"$f":"IF($P$9=\"\",\"\",$P$9)","v":""},null,null,"手續費",null,{"$f":"IF($U$9=\"\",\"\",$U$9)","v":""}]
[null,null,"收\n款\n人","帳號",{"$f":"IF($E$10=\"\",\"\",$E$10)","v":""},null,null,null,null,null,null,null,null,null,null,null,null,null,"代理人",null,{"$f":"IF($U$10=\"\",\"\",$U$10)","v":""}]
[null,null,null,null,null,null,null,null,null,null,null,null,null,null,null,null,null,null,"身分證字號",null,{"$f":"IF($U$11=\"\",\"\",$U$11)","v":""}]
[null,null,null,"戶名",{"$f":"IF($E$12=\"\",\"\",$E$12)","v":""},null,null,null,null,null,null,null,null,null,null,null,null,null,"備註(附言)",null,{"$f":"IF($U$12=\"\",\"\",$U$12)","v":""}]
[]
[null,null,"匯  款  金  額",null,null,null,null,null,{"$f":"$I$14","v":0}]
[]
[null,null,"匯款人姓名:",null,null,{"$f":"IF($F$16=\"\",\"\",$F$16)","v":""},null,null,null,null,null,null,null," 電 話:"]
[null,null,"身分證字號/統一編號:",null,null,null,null,{"$f":"IF(gc1_1=\"\",\"\",gc1_1)","v":""},null,null,null,null,null,{"$f":"IF($N$17=\"\",\"\",$N$17)","v":""}]
[null,null,"為辦理匯款茲授權　貴行自下列存款帳號扣款作為匯款金額"]
[null,null,"帳號：",null,{"$f":"IF($E$19=\"\",\"\",$E$19)","v":""}]
[null,null,"＊扣款金額：",null,null,{"$f":"$F$20","v":0}]
[]
[null,null,"說明：",null,"一、","跨行匯款係經由電腦作業匯至他行庫，如遇電腦故障或連線中斷等因素，可"]
[null,null,null,null,null,"能無法當日完成匯款。匯款人同意　貴行得由　貴行往來行庫辦理匯款事宜。"]
[null,null,null,null,"二、","匯款申請人應填寫要項請填寫正確，倘發生錯誤應自負責任，因而遭退匯時，"]
[null,null,null,null,null,"本行並得加收退匯匯費。"]
[null,null,null,null,"三、","如有查詢、更正、退匯時，請持本聯來行洽辦。"]
[null,null,null,null,"四、","本筆匯款請匯款人自行通知收款人。"]
[null,null,null,null,"五、","本收據印花稅總繳統一編號",null,null,null,null,null,{"$f":"VLOOKUP($O$6,$AJ$2:$AN$4,2,FALSE)","v":96978630}]
[]
[null,null," (G7010) Electronic Application",null,null,null,null,null,{"$f":"I29","v":20190902},null,null,null,null,null,null,null,null,null,null,null,null,null,null,null,null,null,null,null,"3-3"]
[null,null," Note: 使用此申請書時，本人/本公司同意不更動除填記欄位以外之申請書內容及文字，若更動該申請書內容或文字而造成  貴行損失時\n      願負一切責任。"]

{"sheet":"camera","index":1,"n_rows":13,"n_cols":2,"rows_kept":13,"cut":false,"hidden":true,"merged":[]}
[]
[null,"收款人帳號"]
[null,{"$f":"IF(ISERROR(VLOOKUP(#REF!,#REF!,2,FALSE)),\"\",IF(VLOOKUP(#REF!,#REF!,2,FALSE)=0,\"\",VLOOKUP(#REF!,#REF!,2,FALSE)))","v":""}]
[null,"收款人戶名"]
[null,{"$f":"IF(ISERROR(VLOOKUP(#REF!,#REF!,3,FALSE)),\"\",IF(VLOOKUP(#REF!,#REF!,3,FALSE)=0,\"\",VLOOKUP(#REF!,#REF!,3,FALSE)))","v":""}]
[null,"收款銀行名稱 (解款行庫)"]
[null,{"$f":"IF(ISERROR(VLOOKUP(#REF!,#REF!,4,FALSE)),\"\",IF(VLOOKUP(#REF!,#REF!,4,FALSE)=0,\"\",VLOOKUP(#REF!,#REF!,4,FALSE)))","v":""}]
[null,"收款行分支單位"]
[null,{"$f":"IF(ISERROR(VLOOKUP(#REF!,#REF!,5,FALSE)),\"\",IF(VLOOKUP(#REF!,#REF!,5,FALSE)=0,\"\",VLOOKUP(#REF!,#REF!,5,FALSE)))","v":""}]
[null,"解款行代號"]
[null,{"$f":"IF(ISERROR(VLOOKUP(#REF!,#REF!,6,FALSE)),\"\",IF(VLOOKUP(#REF!,#REF!,6,FALSE)=0,\"\",VLOOKUP(#REF!,#REF!,6,FALSE)))","v":""}]
[null,"備註"]
[null,{"$f":"IF(ISERROR(VLOOKUP(#REF!,#REF!,7,FALSE)),\"\",IF(VLOOKUP(#REF!,#REF!,7,FALSE)=0,\"\",VLOOKUP(#REF!,#REF!,7,FALSE)))","v":""}]